BEGIN:VCALENDAR
VERSION:2.0
BEGIN:VEVENT
URL:https://www.networkinaction.com/index.php/events/viewevent/3470-nia-sales-coaching-event?groupid=53 
DTSTART:20201118T100000
DTEND:20201118T110000
SUMMARY:NIA Sales Coaching Event
DESCRIPTION:<p>How many times have you finished your sales presentation, only to hear the dreaded words, "Let me think about it."?  What follows is an endless stream of follow-up phone calls and emails to see if a final decision has been reached.</p><p>Come to this session and end the "think it overs" forever!</p><p>Join Zoom Meeting</p><p>https://zoom.us/j/9460662409?pwd=dkVxRFR1VUw5Z3M4akNMY2ZWcWJzZz09</p>
LOCATION:Zoom meeting details in description
END:VEVENT
END:VCALENDAR