BEGIN:VCALENDAR
VERSION:2.0
BEGIN:VEVENT
URL:https://www.networkinaction.com/index.php/events/viewevent/3451-november-monthly-meeting?groupid=77 
DTSTART:20201110T150000
DTEND:20201110T163000
SUMMARY:November Monthly Meeting
DESCRIPTION:<p>Plan on joining your fellow group members for our November meeting!  </p><p>We are working on getting away from the hybrid meetings in the near future. <strong> If you are able to join us live, please do so.</strong></p><p>If you must join via Zoom, you can do so here:  https://us02web.zoom.us/j/84845080318?pwd=VzNia2M4ejB5RFFyVXdNK0U4bGcrQT09 with this passcode:  660287.</p><p>I look forward to seeing you all there!</p>
LOCATION:Churrascos Westchase @ 9705 Westheimer @ Gessner & Zoom
END:VEVENT
END:VCALENDAR