BEGIN:VCALENDAR
VERSION:2.0
BEGIN:VEVENT
URL:https://www.networkinaction.com/index.php/events/viewevent/3450-sugar-land-business-force-launch-meeting?groupid=140 
DTSTART:20201111T150000
DTEND:20201111T163000
SUMMARY:Sugar Land Business Force Launch Meeting
DESCRIPTION:<p>Plan on joining your fellow group members for the launch of NIA Sugar Land Business Force!  I look forward to bringing you all together and helping you build relationships that will last a lifetime and help you grow your business!</p><p>We will grow our businesses and have fun doing it!</p><p>See you there!</p>
LOCATION:Churrascos Sugar Land, 1520 Lake Pointe Pkwy, Ste 500, Sugar Land, TX 77478
END:VEVENT
END:VCALENDAR