BEGIN:VCALENDAR
VERSION:2.0
BEGIN:VEVENT
URL:https://www.networkinaction.com/index.php/events/viewevent/3439-nia-monthly-members-mandatory-meeting?groupid=29 
DTSTART:20201112T150000
DTEND:20201112T163000
SUMMARY:NIA Monthly Members Mandatory Meeting
DESCRIPTION:
LOCATION:https://us02web.zoom.us/j/9018421246
END:VEVENT
END:VCALENDAR