BEGIN:VCALENDAR
VERSION:2.0
BEGIN:VEVENT
URL:https://www.networkinaction.com/index.php/events/viewevent/3435-nia-2020-holiday-party?groupid=46 
DTSTART:20201204T183000
DTEND:20201204T210000
SUMMARY:NIA 2020 Holiday Party!!!
DESCRIPTION:<p>Mark your calendar for the NIA Holiday Party!  Members from our Round Rock, Georgetown, and North Austin chapters are all invited.  </p><p>We are doing something special for our party this year!  We will be celebrating at the South Fork Food Truck Park.  It is an open air park with a pavilion, picnic tables, and food trucks.  Check out their website to see what to expect: https://www.southforkgtx.com</p><p>More details will be announced in the meetings, but be sure to mark your calendar for a fun evening!  Looking forward to seeing everyone there!</p>
LOCATION:South Fork Food, Fun & Brew, 3309 W State Hwy 29, Georgetown, TX
END:VEVENT
END:VCALENDAR