BEGIN:VCALENDAR
VERSION:2.0
BEGIN:VEVENT
URL:https://www.networkinaction.com/index.php/events/viewevent/3377-coffee-collaboration-and-coaching?groupid=125 
DTSTART:20201103T080000
DTEND:20201103T090000
SUMMARY:Coffee, Collaboration and Coaching
RRULE:FREQ=WEEKLY;UNTIL=20201222T000000
DESCRIPTION:<p>Get your day started with a lively drop-in networking meeting. We'll do some quick intros, play some games, do a speed-mastermind and going into 1:1 breakout sessions to build relationships.
</p>
<p>Networking is a long-term marketing strategy - that can lead to referral or sales, or maybe a life long friendship. Zoom isn't as fun as in-person but it can still be powerful and productive. And it is actually easier in many ways, starting with being more efficient than going to one event at a time.
</p>
<p>Drop in any week. New topics and business owners each week. </p>
LOCATION:www.zoomwithNIAKim.com 
END:VEVENT
END:VCALENDAR