BEGIN:VCALENDAR
VERSION:2.0
BEGIN:VEVENT
URL:https://www.networkinaction.com/index.php/events/viewevent/3333-nia-katy-connectors-monthly-meeting?groupid=9 
DTSTART:20201208T150000
DTEND:20201208T163000
SUMMARY:NIA Katy Connectors Monthly Meeting
DESCRIPTION:Katy Connectors December Monthly Meeting
LOCATION:535 E. Fernhurst Dr., Katy, 77450, Conference rm
END:VEVENT
END:VCALENDAR