BEGIN:VCALENDAR
VERSION:2.0
BEGIN:VEVENT
URL:https://www.networkinaction.com/index.php/events/viewevent/3332-nia-cy-fair-connectors-monthly-meeting?groupid=12 
DTSTART:20201210T150000
DTEND:20201210T163000
SUMMARY:NIA Cy-Fair Connectors Monthly Meeting 
DESCRIPTION:Cy-Fair Connectors December Meeting
LOCATION:World of Beer, 9945 Barker Cypress Rd, Cypress, 77433
END:VEVENT
END:VCALENDAR