BEGIN:VCALENDAR
VERSION:2.0
BEGIN:VEVENT
URL:https://www.networkinaction.com/index.php/events/viewevent/3331-nia-katy-monthly-meeting?groupid=9 
DTSTART:20201110T150000
DTEND:20201110T163000
SUMMARY:NIA Katy Monthly Meeting
DESCRIPTION:Katy Connectors November Monthly Meeting 
LOCATION:El Asador Mexican Restaurant, 3750 S. Mason Rd, Katy, 77450
END:VEVENT
END:VCALENDAR