BEGIN:VCALENDAR
VERSION:2.0
BEGIN:VEVENT
URL:https://www.networkinaction.com/index.php/events/viewevent/3330-nia-cy-fair-monthly-meeting?groupid=12 
DTSTART:20201117T150000
DTEND:20201117T163000
SUMMARY:NIA Cy-Fair Monthly Meeting 
DESCRIPTION:Cy-Fair November Monthly Meeting
LOCATION:World of Beer, The Boardwalk at Towne Lake Address: 9945 Barker Cypress Rd Ste 120, Cypress, TX 77433
END:VEVENT
END:VCALENDAR