BEGIN:VCALENDAR
VERSION:2.0
BEGIN:VEVENT
URL:https://www.networkinaction.com/index.php/events/viewevent/3294-monthly-meeting?groupid=66 
DTSTART:20201110T160000
DTEND:20201110T173000
SUMMARY:Monthly Meeting
DESCRIPTION:As business owners and leaders, we need to focus on the plan for our business next year.
LOCATION:zoom.us; Meeting ID 713-678-0468
END:VEVENT
END:VCALENDAR