BEGIN:VCALENDAR
VERSION:2.0
BEGIN:VEVENT
URL:https://www.networkinaction.com/index.php/events/viewevent/3292-monthly-meeting?groupid=68 
DTSTART:20201112T153000
DTEND:20201112T170000
SUMMARY:Monthly Meeting
DESCRIPTION:As business owners and leaders, we need to plan for the next year now.  
LOCATION:zoom.us; Meeting ID 713-678-0468
END:VEVENT
END:VCALENDAR