BEGIN:VCALENDAR
VERSION:2.0
BEGIN:VEVENT
URL:https://www.networkinaction.com/index.php/events/viewevent/3251-nia-round-rock-monthly-business-meeting?groupid=46 
DTSTART:20210114T150000
DTEND:20210114T163000
SUMMARY:NIA Round Rock Monthly Business Meeting
RRULE:FREQ=MONTHLY;UNTIL=20210311T000000
DESCRIPTION:<p>It's time for networking!  Come meet friends old and new while building business referral connections.  Looking forward to seeing you at the meeting!</p><br /><p>Join Zoom Meeting -</p><br /><p>https://zoom.us/j/9460662409?pwd=dkVxRFR1VUw5Z3M4akNMY2ZWcWJzZz09</p>
LOCATION:Zoom meeting - link in description
END:VEVENT
END:VCALENDAR