BEGIN:VCALENDAR
VERSION:2.0
BEGIN:VEVENT
URL:https://www.networkinaction.com/index.php/events/viewevent/3224-first-friday-open-mic 
DTSTART:20201204T180000
DTEND:20201204T200000
SUMMARY:First Friday Open Mic
RRULE:FREQ=MONTHLY;UNTIL=20210904T000000
DESCRIPTION:<p>Join us at our first Friday open Mic & let your talents come out to play. Whether you sing, play an instrument, doing stand-up comedy or reciting poetry, we want you to share with us what is special about you.
</p><p>Bring your talent, your friends and lets have fun.</p>
LOCATION:The Perfect Latte, 7417 W Grand Parkway S #130, Richmond-TX 77407
END:VEVENT
END:VCALENDAR