BEGIN:VCALENDAR
VERSION:2.0
BEGIN:VEVENT
URL:https://www.networkinaction.com/index.php/events/viewevent/3152-nia-north-austin-monthly-meeting?groupid=53 
DTSTART:20210701T150000
DTEND:20210703T163000
SUMMARY:NIA North Austin Monthly Meeting
RRULE:FREQ=MONTHLY;UNTIL=20210817T000000
DESCRIPTION:<p>It's time to network!</p><p>Join your NIA team to strengthen existing relationships and build new ones.  Guests are always welcome!</p><p>See you there!</p><p><br /></p><br /><br />
LOCATION:Casa Chapala Mexican Cuisine & Tequila Bar, 9041 Research Blvd #100, Austin, TX 78758
END:VEVENT
END:VCALENDAR