BEGIN:VCALENDAR
VERSION:2.0
BEGIN:VEVENT
URL:https://www.networkinaction.com/index.php/events/viewevent/3146-nia-north-austin-monthly-meeting?groupid=53 
DTSTART:20210103T150000
DTEND:20210103T163000
SUMMARY:NIA North Austin Monthly Meeting
RRULE:FREQ=MONTHLY;UNTIL=20210817T000000
DESCRIPTION:<p>It's time to network!</p><p>Join your NIA team to strengthen existing relationships and build new ones.  During this time of Covid we will be meeting virtually.  The meeting link is below.  Guests are always welcome!</p><p>See you there!</p><p>Join Zoom Meeting</p><p>https://zoom.us/j/9460662409?pwd=dkVxRFR1VUw5Z3M4akNMY2ZWcWJzZz09</p><br /><br />
LOCATION:Zoom meeting - link in meeting details
END:VEVENT
END:VCALENDAR