BEGIN:VCALENDAR
VERSION:2.0
BEGIN:VEVENT
URL:https://www.networkinaction.com/index.php/events/viewevent/3144-nia-north-austin-monthly-meeting?groupid=53 
DTSTART:20201105T150000
DTEND:20201105T163000
SUMMARY:NIA North Austin Monthly Meeting
RRULE:FREQ=MONTHLY;UNTIL=20210817T000000
DESCRIPTION:<p>It's time to network at our first hybrid meeting!  Join your NIA team to strengthen existing relationships and build new ones.  You are welcome to meet with us in-person or on-line.  Meeting details are below.  Guests are always welcome!</p><p>In Person Meeting</p><p>Cover 3 Anderson, 2700 W Anderson Lane, Austin</p><p><p>Zoom Meeting</p><p>https://zoom.us/j/9460662409?pwd=dkVxRFR1VUw5Z3M4akNMY2ZWcWJzZz09</p><br /><br /></p>
LOCATION:Zoom meeting - link in meeting details
END:VEVENT
END:VCALENDAR