BEGIN:VCALENDAR
VERSION:2.0
BEGIN:VEVENT
URL:https://www.networkinaction.com/index.php/events/viewevent/3089-nia-georgetown-business-meeting?groupid=50 
DTSTART:20210209T150000
DTEND:20210209T163000
SUMMARY:NIA Georgetown Business Meeting
RRULE:FREQ=MONTHLY;UNTIL=20210612T000000
DESCRIPTION:<p>Join us for our monthly business meeting, where we will see old friends, meet new ones, and build stronger business connections!  Guests are always welcome!</p><p>Meeting format to be decided closer to meeting date.  </p><p>Participate by Zoom at: https://zoom.us/j/9460662409?pwd=dkVxRFR1VUw5Z3M4akNMY2ZWcWJzZz09</p>
LOCATION:See meeting description for details.
END:VEVENT
END:VCALENDAR