BEGIN:VCALENDAR
VERSION:2.0
BEGIN:VEVENT
URL:https://www.networkinaction.com/index.php/events/viewevent/3087-nia-georgetown-business-meeting?groupid=50 
DTSTART:20201208T150000
DTEND:20201208T163000
SUMMARY:NIA Georgetown Business Meeting
RRULE:FREQ=MONTHLY;UNTIL=20210612T000000
DESCRIPTION:Join us for our monthly business meeting, where we will see old friends, meet new ones, and build stronger business connections!  Guests are always welcome!
LOCATION:Zoom meeting: https://zoom.us/j/9460662409?pwd=dkVxRFR1VUw5Z3M4akNMY2ZWcWJzZz09
END:VEVENT
END:VCALENDAR