BEGIN:VCALENDAR
VERSION:2.0
BEGIN:VEVENT
URL:https://www.networkinaction.com/index.php/events/viewevent/3086-nia-georgetown-business-meeting?groupid=50 
DTSTART:20201110T150000
DTEND:20201110T163000
SUMMARY:NIA Georgetown Business Meeting
RRULE:FREQ=MONTHLY;UNTIL=20210612T000000
DESCRIPTION:<p>Join us for our monthly business meeting, where we will see old friends, meet new ones, and build stronger business connections!  Guests are always welcome!</p><p>We will have a hybrid meeting again this month. Thank you to Sheri Salley, our own Georgetown NIA realtor for hosting at her office!!  And, of course, you can join by Zoom if you are more conformable with that format.</p><p>Zoom meeting: https://zoom.us/j/9460662409?pwd=dkVxRFR1VUw5Z3M4akNMY2ZWcWJzZz09</p>Looking forward to seeing everyone!<br /><p><br /></p>
LOCATION:Century 21 Office, 801 S Main St., Georgetown, TX 78626
END:VEVENT
END:VCALENDAR