BEGIN:VCALENDAR
VERSION:2.0
BEGIN:VEVENT
URL:https://www.networkinaction.com/index.php/events/viewevent/2809-monthly-networking-in-action-veteran-business-owners 
DTSTART:20201216T160000
DTEND:20201216T173000
SUMMARY:Monthly Networking in Action: Veteran Business Owners
RRULE:FREQ=MONTHLY;UNTIL=20201231T000000
DESCRIPTION:<p>We are looking to grow our Veteran Business Owner's group.</p><p>This is an FREE: Q&A session to learn more about the networking group focus on Veteran Business Owners Virtual networking via Zoom<br />Email: team@d-unitygroup.com to RSVP<br />We will send you the link to join the conversation</p><p>Mark the third Tuesday of each month</p><p>See you there!!<br /></p>
LOCATION:via zoom:Atlanta, GA
END:VEVENT
END:VCALENDAR