BEGIN:VCALENDAR
VERSION:2.0
BEGIN:VEVENT
URL:https://www.networkinaction.com/index.php/events/viewevent/2230-december-monthly-meeting?groupid=1 
DTSTART:20201210T150000
DTEND:20201210T163000
SUMMARY:December Monthly Meeting
DESCRIPTION:<p>You do not want to miss this one! Most business owners wait till the first of January to prepare for 2021 but not at NIA! Jump om zoom and be ready to go in 2021. Please remember to plan to be in a stationary spot as this exercise will not work from a moving car! Join on time, stay thru the entire meeting and be prepared to show your self. Building trust with an Avatar is really tuff! And as always if you have to miss remember your commitment to the group to line up a sub. </p><br />See ya on www.zoomwithnia.com       WE WILL NOT MEET IN PERSON
LOCATION:www.zoomwithnia.com
END:VEVENT
END:VCALENDAR