BEGIN:VCALENDAR
VERSION:2.0
BEGIN:VEVENT
URL:https://www.networkinaction.com/index.php/events/viewevent/2229-monthly-meeting-3-00-warehouse-72-patio?groupid=1 
DTSTART:20201112T150000
DTEND:20201112T163000
SUMMARY: Monthly Meeting 3:00 Warehouse 72 Patio 
DESCRIPTION:We will only offer an in person meeting as we will be out doors and temperatures will be taken before entering. All pre cautions will be taken and you can sit at a table by yourself if you like. Plenty of room to spread out and enjoy getting together. 
LOCATION:Warehouse 72 7620 Katy Freeway Suite 305   ( outdoor patio) 
END:VEVENT
END:VCALENDAR