BEGIN:VCALENDAR
VERSION:2.0
BEGIN:VEVENT
URL:https://www.networkinaction.com/index.php/events/viewevent/19410-new-member-engagement 
DTSTART:20260403T100000
DTEND:20260403T110000
SUMMARY:New Member Engagement
RRULE:FREQ=MONTHLY;UNTIL=20261231T000000
DESCRIPTION:<p> Next Level Member Engagement is HERE! 🚀
</p>
<p>We’re excited to share that our very own Courtney Weidner will be hosting a monthly Next Level Member Engagement Call on Zoom!
</p><p>📅 First Friday of every month. First one is Jan 9th
</p><p>⏰ 10:00 AM CST
</p><p>💻 Zoom | Members Only
</p><p>Zoom: https://us02web.zoom.us/j/9364435807
</p><p>This call is designed to support, coach, and guide our members who want to fully leverage everything their Network In Action membership offers — systems, benefits, engagement opportunities, and ROI.
</p><p>✨ Extra bonus: This is a space to reconnect with the why behind NIA, fine-tune how you show up, and make sure your membership is working for you — not sitting on the shelf.
</p><p>Whether you’re brand new or a long-time member, this call will help you gain clarity, confidence, and momentum inside the NIA ecosystem.
</p><p>👉 Come curious. Leave confident.
</p><p>We can’t wait to see you there,</p>






LOCATION:Online
END:VEVENT
END:VCALENDAR