BEGIN:VCALENDAR
VERSION:2.0
BEGIN:VEVENT
URL:https://www.networkinaction.com/index.php/events/viewevent/17771-city-wide-mixer-3-30-6-30 
DTSTART:20250626T153000
DTEND:20250626T183000
SUMMARY:City-Wide Mixer - 3:30 - 6:30
DESCRIPTION:<p>Join us <strong>this Thursday, June 26</strong>, for the <strong>NIA Citywide Mixer </strong>at <strong>Vine Memorial</strong>! From <strong>3:30 PM to 6:30 PM</strong>, professionals from every industry will gather at 7951 Katy Freeway Unit B in Houston for an afternoon of meaningful connections, idea-sharing, and casual networking over delicious refreshments. Whether you’re looking to expand your referral network, collaborate on new projects, or simply meet fellow local leaders, this mixer offers the perfect blend of opportunity and atmosphere. Don’t miss your chance to mix, mingle, and make valuable connections in one of Houston’s most vibrant venues!</p>
LOCATION:7951 Katy Fwy Unit B, Houston, TX 77024
END:VEVENT
END:VCALENDAR