BEGIN:VCALENDAR
VERSION:2.0
BEGIN:VEVENT
URL:https://www.networkinaction.com/index.php/events/viewevent/16246-november-monthly-new-venue?groupid=11 
DTSTART:20241121T160000
DTEND:20241121T173000
SUMMARY:November Monthly - New Venue 
DESCRIPTION:<p>Giving thanks for all we have and those who have helped shape the people we have become, we express our gratitude in this very popular meeting agenda. Welcome members and guests to our last regular meeting of 2024.</p>
LOCATION:Saltgrass Steak House, 23952 Northwest Freeway, Cypress, TX 77429
END:VEVENT
END:VCALENDAR