BEGIN:VCALENDAR
VERSION:2.0
BEGIN:VEVENT
URL:https://www.networkinaction.com/index.php/events/viewevent/15892-eastside-nia-coffee-connect?groupid=383 
DTSTART:20241003T100000
DTEND:20241003T110000
SUMMARY:Eastside NIA Coffee Connect
DESCRIPTION:<p>Grab a coffee and chat with NIA members across the Eastside. This meeting is open to all NIA members and guests. Rachel will not be in attendance, but you'll get to meet members of Cathryn Dall's Kirkland, Redmond, and virtual groups!</p>
LOCATION:Froglegs Cooking School 7430 164th Ave NE Suite B240, Redmond, WA 98052
END:VEVENT
END:VCALENDAR