BEGIN:VCALENDAR
VERSION:2.0
BEGIN:VEVENT
URL:https://www.networkinaction.com/index.php/events/viewevent/15870-nia-city-wide-mixer 
DTSTART:20240926T153000
DTEND:20240926T180000
SUMMARY:NIA City-Wide Mixer
DESCRIPTION:<p>🌟 Save the Date for an Exclusive Networking Event! 🌟</p><p>Joyce and David Wells invite you to the NIA City-Wide Mixer, where professionals from all industries come together to connect and collaborate!</p><br /><p>🗓️ MARK YOUR CALENDARS: 🗓️Join us for an unforgettable afternoon of connection, collaboration, and celebration!</p><p>DATE: Thursday, September 26th, 2024</p><p>TIME: 3:30PM - 6:00PM</p><p>PLACE: Kirby Ice House - 1015 Gessner Road</p><br /><p>Here’s what to expect:🔥 Networking: Expand your professional circle and connect with dynamic individuals from diverse backgrounds.💡 Collaboration: Engage in insightful discussions, share your expertise, and spark innovative ideas that could shape your future.🎉 Fun: Enjoy delicious refreshments in the relaxed ambiance of Kirby Ice House, while soaking in the vibrant energy of the community.🚀 Opportunity: Don’t miss this chance to make valuable connections and unlock new possibilities for your career or business!</p><p>We're excited to meet you in person and create something extraordinary together!See you there!</p>
LOCATION:Kirby Ice House - 1015 Gessner Road
END:VEVENT
END:VCALENDAR