BEGIN:VCALENDAR
VERSION:2.0
BEGIN:VEVENT
URL:https://www.networkinaction.com/index.php/events/viewevent/15771-monthly-mastermind-meeting?groupid=50 
DTSTART:20241002T113000
DTEND:20241002T130000
SUMMARY:Monthly Mastermind Meeting
DESCRIPTION:Join us for our monthly mastermind networking session! 
LOCATION:The Golden Rule 606 S Church St, Georgetown, TX 78626
END:VEVENT
END:VCALENDAR