BEGIN:VCALENDAR
VERSION:2.0
BEGIN:VEVENT
URL:https://www.networkinaction.com/index.php/events/viewevent/15729-book-club 
DTSTART:20240928T093000
DTEND:20240928T103000
SUMMARY:Book Club
RRULE:FREQ=MONTHLY;UNTIL=20250828T000000
DESCRIPTION:
LOCATION:Panera Bread, Cary NC
END:VEVENT
END:VCALENDAR