BEGIN:VCALENDAR
VERSION:2.0
BEGIN:VEVENT
URL:https://www.networkinaction.com/index.php/events/viewevent/15548-virtual-mastermind-networking-for-business-owners-elevate-connect?groupid=366 
DTSTART:20241008T100000
DTEND:20241008T113000
SUMMARY:Virtual Mastermind & Networking for Business Owners - Elevate & Connect
DESCRIPTION:<p>Grow Your Business with Network In Action (NIA)</p><br /><p>Welcome to a Community of Growth and Innovation:</p><p>Mastermind Groups: Collaborate with top-tier business leaders.</p><p>Strategic Referral Network: Expand your outreach with our meticulously crafted referral system.</p><p>CEO Peer Group: Connect with fellow CEOs for insights and support.</p><p>Board of Directors: Gain from collective expertise for strategic decision-making.</p><p>Relationship Cultivators & Masterful Networkers: Forge lasting business relationships.</p><p>Innovative Business Solutions Providers: Access cutting-edge solutions for business challenges.</p><p>Business Developers: Propel your business forward with our development strategies.</p><br /><p>Why Choose Network In Action?</p><p>Monthly Meetings: Time-efficient networking that fits your busy schedule.</p><p>Professional Leadership: Benefit from the guidance of seasoned business leaders.</p><p>State of the Art Technology: Leverage our advanced tech for seamless networking.</p><p>Refer with Confidence: Share and receive referrals with a trusted network.</p><p>Reputation Management: Enhance your business's reputation through strategic connections.</p><p>Local, Regional, and National Connections: Broaden your network across various levels.</p><p>Guaranteed Return on Relationships: Invest in relationships that yield tangible benefits.</p><p>NIA University Business Solutions: Continuous learning and growth opportunities.</p><p>Community Service Commitment: Join a network that values giving back.</p><br /><p>🔶 Experience the NIA Difference 🔶</p><br /><p>Locations:</p><p>Spokane | Eastern WA</p><p>Coeur D'Alene | North ID</p><p>Virtual Nationwide & Regional Options</p><p>In today’s competitive business climate, effective networking is key. With NIA, you're not just joining a network; you're becoming part of a community committed to mutual growth and success. Our innovative approach ensures that every meeting, every connection, brings you closer to your business goals.</p><p>Discover more at Network In Action.<br /><br /><a href="https://www.eventbrite.com/e/977192437887?aff=oddtdtcreator">Register HERE!</a></p>
LOCATION:Zoom - register on Eventbrite for access
END:VEVENT
END:VCALENDAR