BEGIN:VCALENDAR
VERSION:2.0
BEGIN:VEVENT
URL:https://www.networkinaction.com/index.php/events/viewevent/15434-backpack-give-away-for-kids-in-need 
DTSTART:20240725T000000
DTEND:20240817T001500
SUMMARY:Backpack Give Away for Kids in Need
DESCRIPTION:<p>The Salvation Army will be helping kids this year get a fresh start in school by supplying them with needed back to school supplies. If you know a child in need, please refer them to The Salvation Army to sign up by having them call 541-773-6965.</p><p>As a business partner you can help too! Below are ways you can help put a smile a child's face. Contact NIA member, Sharee Whitson for more information</p><p>Host a Back To School Supply Drive at your business: The Salvation Army can provide the collection containers for you and we will pick up the school supplies and give them to children in need</p><p>donate a Backpack filled with school supplies and drop off at your local Salvation Army</p><p>Sponsor by making a financial contribution. Receive signage at the Back To School pick up days and on our social media platforms. </p><p>Volunteer: Children are matched with a personal shopper during our Back To School days and the shopper helps them pick out their school supplies based upon the school list provided. You can be personal shopper or help set up the event. </p>
LOCATION:304 Beatty Street, Medford OR
END:VEVENT
END:VCALENDAR