BEGIN:VCALENDAR
VERSION:2.0
BEGIN:VEVENT
URL:https://www.networkinaction.com/index.php/events/viewevent/15264-nia-monthly-coffee-convo-and-brewing?groupid=198 
DTSTART:20241001T080000
DTEND:20241001T084500
SUMMARY:NIA Monthly Coffee Convo and Brewing
DESCRIPTION:The NIA Monthly Coffee Convo and Brewing is scheduled for Tuesday 10/01, from 08:00 AM to 08:45 AM via Zoom. Kindly RSVP through our app at your earliest convenience. Your presence is highly valued. Should you be unable to attend, please ensure timely coordination of a substitute attendee. For further assistance, feel free to text us at 206-550-7678.

Herewith is the Zoom link: www.networkingwithzoom.com.
LOCATION:www.networkingwithzoom.com
END:VEVENT
END:VCALENDAR