BEGIN:VCALENDAR
VERSION:2.0
BEGIN:VEVENT
URL:https://www.networkinaction.com/index.php/events/viewevent/15246-nia-us-ever-growing-network-monthly-meeting?groupid=267 
DTSTART:20241008T100000
DTEND:20241008T120000
SUMMARY:NIA US Ever Growing Network Monthly Meeting
DESCRIPTION:The NIA US Ever Growing Network Monthly Meeting is scheduled for Tuesday 10/08, from 10:00 AM to 12:00 PM via Zoom. Kindly RSVP through our app at your earliest convenience. Your presence is highly valued. Should you be unable to attend, please ensure timely coordination of a substitute attendee. For further assistance, feel free to text us at 206-550-7678.

Herewith is the Zoom link: https://us02web.zoom.us/j/5096788090.
LOCATION:https://us02web.zoom.us/j/5096788090
END:VEVENT
END:VCALENDAR