BEGIN:VCALENDAR
VERSION:2.0
BEGIN:VEVENT
URL:https://www.networkinaction.com/index.php/events/viewevent/15234-nia-grit-city-monthly-meeting?groupid=196 
DTSTART:20241009T150000
DTEND:20241009T163000
SUMMARY:NIA Grit City Monthly Meeting
DESCRIPTION:The NIA Grit City Monthly Meeting is scheduled for Wednesday 10/09, from 3:00 PM to 4:30 PM at Moctezuma’s Tacoma. Kindly RSVP through our app at your earliest convenience. Your presence is highly valued. Should you be unable to attend, please ensure timely coordination of a substitute attendee. For further assistance, feel free to text us at 206-550-7678.
LOCATION:Moctezuma’s Tacoma
END:VEVENT
END:VCALENDAR