BEGIN:VCALENDAR
VERSION:2.0
BEGIN:VEVENT
URL:https://www.networkinaction.com/index.php/events/viewevent/15227-nia-south-king-county-monthly-meeting?groupid=195 
DTSTART:20241008T150000
DTEND:20241008T163000
SUMMARY:NIA South King County Monthly Meeting
DESCRIPTION:The NIA South King County Monthly Meeting is scheduled for Tuesday 10/08, from 3:00 PM to 4:30 PM at Vino at the Landing. Kindly RSVP through our app at your earliest convenience. Your presence is highly valued. Should you be unable to attend, please ensure timely coordination of a substitute attendee. For further assistance, feel free to text us at 206-550-7678.
LOCATION:Vino at the Landing
END:VEVENT
END:VCALENDAR