BEGIN:VCALENDAR
VERSION:2.0
BEGIN:VEVENT
URL:https://www.networkinaction.com/index.php/events/viewevent/14827-monthly-luncheon 
DTSTART:20240426T113000
DTEND:20240426T114500
SUMMARY:Monthly Luncheon
DESCRIPTION:<p>This month we're meeting at Twisted Noodles in Durham (https://www.twistednoodlesdurham.com). Looking forward to seeing you there!</p>
LOCATION:Twisted Noodles, Durham - 4201 University Dr. Ste 112, Durham, NC 27707
END:VEVENT
END:VCALENDAR