BEGIN:VCALENDAR
VERSION:2.0
BEGIN:VEVENT
URL:https://www.networkinaction.com/index.php/events/viewevent/14490-20th-annual-light-the-way-gala?groupid=223 
DTSTART:20240928T170000
DTEND:20240928T230000
SUMMARY:20th Annual Light the Way Gala 
DESCRIPTION:<p>Registration is officially OPEN for our 20th Annual Light the Way Gala! </p><p> Join us for an unforgettable evening of celebration, hope, and community as we mark this incredible milestone. </p><p>Don't miss out on the opportunity to be part of an event that has been lighting up lives for two decades! Register now to secure your spot and help us continue spreading light and love to children and families facing the challenges of childhood cancer. </p><p> The link below is for the registration to reserve your tickets today! </p><p> https://auction.ilfmedia.com/auction/2024-light-the-way-gala/

#LightTheWayGala #20thAnniversary #RegisterNow</p>
LOCATION:322 N Spokane Falls Blvd Spokane, WA 
END:VEVENT
END:VCALENDAR