BEGIN:VCALENDAR
VERSION:2.0
BEGIN:VEVENT
URL:https://www.networkinaction.com/index.php/events/viewevent/14310-nia-citywide-happy-hour-mixer-at-kirby-ice-house 
DTSTART:20240222T153000
DTEND:20240222T183000
SUMMARY:NIA Citywide Happy Hour Mixer at Kirby Ice House!
DESCRIPTION:<p>Join us for the NIA Citywide Mixer on February 22nd at the Kirby Ice House on Gessner!</p><br /><br /><p>Get ready for an evening of great connections as we bring together the best and brightest from all over the city. Whether you're a seasoned entrepreneur, an up-and-coming professional, or just looking to expand your network, this event is not to be missed.</p><br /><br /><p>At the NIA City-Wide Mixer, you'll have the opportunity to connect with like-minded individuals, share ideas, and discover new opportunities. Plus, with fantastic food, drinks, and music, the atmosphere will be electric.</p><br /><br /><p>Attire: Casual<br /></p>
LOCATION:1015 Gessner Rd, Houston, TX 77055
END:VEVENT
END:VCALENDAR