BEGIN:VCALENDAR
VERSION:2.0
BEGIN:VEVENT
URL:https://www.networkinaction.com/index.php/events/viewevent/13313-lower-valley-washington-business-builders?groupid=307 
DTSTART:20231010T080000
DTEND:20231010T093000
SUMMARY:Lower Valley Washington Business Builders
DESCRIPTION:<p>🌟 Creating an ongoing win-win partnership with each and every member is paramount to the group’s success and is the group’s collective responsibility. 🤝🌟</p><p>💼🔑 Together, we can achieve more by sharing knowledge, supporting one another, and fostering a strong sense of community. Let's build a network that thrives on collaboration and mutual success! 💪🌐</p><p>Join our networking community and experience the power of collective growth and support. 🚀🌟</p><p>Learn more and join us today: 👉 https://www.niacentralwa.com 👈</p>
LOCATION:Casa Tequila | 225 Division St, Grandview, WA 98930
END:VEVENT
END:VCALENDAR