BEGIN:VCALENDAR
VERSION:2.0
BEGIN:VEVENT
URL:https://www.networkinaction.com/index.php/events/viewevent/12997-wbf-august-meeting?groupid=147 
DTSTART:20230808T150000
DTEND:20230808T163000
SUMMARY:WBF August Meeting
DESCRIPTION:<p>Join us for our monthly meeting.  Expand your professional network and connect with like-minded business owners.</p><p><ul><li>Meet new professionals from various industries.</li><li>Expand your connections and build valuable relationships.</li><li>Exchange ideas, insights, and experiences.</li><li>Discover potential collaboration opportunities.</li></ul></p><p>We have a great meeting planned and provide a friendly and supportive environment to foster meaningful connections.</p><p>This event is open to all, so feel free to invite your colleagues and friends to join the gathering.</p><p>We look forward to seeing you at the event and creating a thriving community of professionals who help each other grow!</p><p>Let's connect, collaborate, and grow together! See you there! </p>
LOCATION:Saltgrass Steakhouse, 8943 Katy Fwy, Houston, TX 77024
END:VEVENT
END:VCALENDAR