BEGIN:VCALENDAR
VERSION:2.0
BEGIN:VEVENT
URL:https://www.networkinaction.com/index.php/events/viewevent/12952-lunch-refresh?groupid=237 
DTSTART:20230728T113000
DTEND:20230728T123000
SUMMARY:Lunch & Refresh
DESCRIPTION:<p>Connection happens best over food! So let's get together and share some together. There will likely be limited space, so please RSVP sooner rather than later so I can communicate with the diner accurately. This is a member-only event, so no guests, just us!</p>
LOCATION:Rhombus Guys, 606 Main Ave, Fargo, ND 58103
END:VEVENT
END:VCALENDAR