BEGIN:VCALENDAR
VERSION:2.0
BEGIN:VEVENT
URL:https://www.networkinaction.com/index.php/events/viewevent/12949-next-level-networking-event?groupid=286 
DTSTART:20230801T090000
DTEND:20230801T100000
SUMMARY:Next Level Networking Event
DESCRIPTION:
LOCATION:https://us06web.zoom.us/j/9149655512?pwd=RG1sOUF4SlNTRVpSU2NXczZWVTl2QT09
END:VEVENT
END:VCALENDAR