BEGIN:VCALENDAR
VERSION:2.0
BEGIN:VEVENT
URL:https://www.networkinaction.com/index.php/events/viewevent/12915-nia-focus-forum-problem-solving-vs-creation-ride-along?groupid=286 
DTSTART:20230726T130000
DTEND:20230726T141500
SUMMARY:NIA Focus Forum: Problem Solving vs Creation Ride-Along 
DESCRIPTION:<p>About Fred Blum
</p><p>Most of us were brought up in a problem-solving orientation. You can see it in our thoughts about how "now isn't enough" or "the future will be better". 
</p><p>The drawback with this orientation is that you're very limited in your ability to shape and change your life. For many of us, creating the life and work we desire will require a whole new way of thinking. We must learn to live in a creative orientation rather than a problem-solving one.</p>
LOCATION:www.zoomwithnia.com
END:VEVENT
END:VCALENDAR