BEGIN:VCALENDAR
VERSION:2.0
BEGIN:VEVENT
URL:https://www.networkinaction.com/index.php/events/viewevent/12914-sales-mastery-who-wins-in-sales-the-hunter-or-the-farmer?groupid=286 
DTSTART:20230719T130000
DTEND:20230719T140000
SUMMARY:Sales Mastery: Who wins in Sales, the HUNTER or the FARMER?
DESCRIPTION:<p>Cathy Reinhold has been educating and growing businesses, people, and communities for decades in Indiana and Texas. Her passion for lifelong learning and growth brings forth her commitment to continuously helping thousands of leaders. Her experience in behavioral science brings a focus on customer retention and the importance of opportunity in personal growth. </p>
LOCATION:www.zoomwithnia.com
END:VEVENT
END:VCALENDAR