BEGIN:VCALENDAR
VERSION:2.0
BEGIN:VEVENT
URL:https://www.networkinaction.com/index.php/events/viewevent/12898-evergreen-exchange-virtual-networking-event?groupid=195 
DTSTART:20230720T100000
DTEND:20230720T110000
SUMMARY:Evergreen Exchange Virtual Networking Event
DESCRIPTION:Network In Action is rapidly expanding throughout Washington state, from Seattle to Spokane! Looking to connect with fellow business owners in the "Evergreen" 🌲 State that are passionate about helping others grow?

Come and join us Thursday, July 20 from 10-11 am for a speed networking session with fellow business owners.

Register here! https://buff.ly/3NH9NJc  
Use promo code: PROFIT (No charge event to NIA members!)


Jessica White, MBA, Beth Vosmeier, Cathryn Dall, Laura Rivera-Grucelski, Monica M. Santillanes-Sanchez

#networking #work #businessnetworking #networkingtips #networkingstrategy #businessowners #washington #seattle
LOCATION:Online
END:VEVENT
END:VCALENDAR