BEGIN:VCALENDAR
VERSION:2.0
BEGIN:VEVENT
URL:https://www.networkinaction.com/index.php/events/viewevent/12837-washington-s-nia-mixer?groupid=307 
DTSTART:20230720T100000
DTEND:20230720T230000
SUMMARY:Washington's NIA Mixer
DESCRIPTION:Join us for the 1st, WA STATE NIA Event!! You'll receive high impact networking, share knowledge and get inspired!🤩 Use this link: www.meetwithjessica.online
Passcode = Profit
LOCATION:https://us02web.zoom.us/j/5096788090?pwd=WHZMSmVGMCtrcFVQQzIxdGE0OUlIdz09
END:VEVENT
END:VCALENDAR