BEGIN:VCALENDAR
VERSION:2.0
BEGIN:VEVENT
URL:https://www.networkinaction.com/index.php/events/viewevent/12824-master-collaborators-yakima-pm?groupid=307 
DTSTART:20230712T150000
DTEND:20230712T163000
SUMMARY:Master Collaborators Yakima PM
DESCRIPTION:🤝✨ Through the mastermind exchange of ideas and feedback, group members will help others network more effectively. 🗣️💡

🌟 Creating an ongoing win-win partnership with each and every member is paramount to the group’s success and is the group’s collective responsibility. 🤝🌟

💼🔑 Together, we can achieve more by sharing knowledge, supporting one another, and fostering a strong sense of community. Let's build a network that thrives on collaboration and mutual success! 💪🌐

Join our networking community and experience the power of collective growth and support. 🚀🌟

Learn more and join us today: 👉 https://www.niacentralwa.com 👈
LOCATION:Fuego Margarita Bar, 420 S 48th Ave, Yakima, WA 98908
END:VEVENT
END:VCALENDAR