BEGIN:VCALENDAR
VERSION:2.0
BEGIN:VEVENT
URL:https://www.networkinaction.com/index.php/events/viewevent/12820-tri-cities-wa-influencer-network?groupid=307 
DTSTART:20230711T150000
DTEND:20230711T163000
SUMMARY:Tri-Cities, WA – Influencer Network
DESCRIPTION:🤝 Connect with owners/professionals who are truly best-in-class in their respective industries, creating a sense of responsibility for each member’s growth and success. 🌟🔝

🔗 We make every effort to learn about each member’s business, gain trust and confidence, refer high-quality prospects, and enthusiastically promote each other whenever possible. 💼💪🌟

📚 Be In The Know. Stay ahead of the curve and unlock new opportunities! 🚀🔓

Join our networking community today and experience the power of meaningful connections. Let's grow together and achieve greatness! 🌐🌟💼

Visit our website to learn more: 👉 https://www.niacentralwa.com 👈
LOCATION:Crepe Haus + El Compadre 2100 N Belfair St, Kennewick
END:VEVENT
END:VCALENDAR