BEGIN:VCALENDAR
VERSION:2.0
BEGIN:VEVENT
URL:https://www.networkinaction.com/index.php/events/viewevent/12816-yakima-elite-connectors?groupid=236 
DTSTART:20230712T070000
DTEND:20230712T083000
SUMMARY:Yakima Elite Connectors 
DESCRIPTION:💡 Our mastermind community is for scale-focused entrepreneurs and CEOs motivated by results, committed to growth, willing to be engaged, and support others to scale their business and yours as well. Join us for an incredible journey of growth and success! 🚀💼💥

🍽️ Lite bites and refreshments will be provided. Come and enjoy! 🍔🥤😋

🔶 Experience the NIA Difference 🔶

♦️ Monthly Meetings to get focused strategy time to actually work ON your business, distraction FREE 🗓️⏳

👔 Professional Leadership dedicated to YOUR SUCCESS! 🙌🎯
LOCATION:Le Mercantile, 218 W Yakima Ave, Yakima, WA 98902
END:VEVENT
END:VCALENDAR